Workbook

Sheet Udskrift på A4
A1: Lokalmesterskab for Træfagenes Byggeuddannelse 2010
A3: Der gives point fra 1 til 5, hvor 5 er bedst 5 gives for den fremragende præstation 4 gives for den fortrinlige præstation 3 gives for den gode præstation 2 gives for den jævne præstation 1 gives for den tilstrækkelige præstation 0 gives for den utilstrækkelige præsentation | C3: Tilridsning af træ lagt i profil | L3: Tildannet træ lagt på profilplade | U3: Opgave på profilplade | AB3: Samlet point
C4: Grat 1 | D4: Grat 2 | E4: Grat 3 | F4: Spærskifte 1 | G4: Spærskifte 2 | H4: Remme | I4: Stolpe | J4: Spætveksel | L4: Grat 1 | M4: Grat 2 | N4: Grat 3 | O4: Spærskifte 1 | P4: Spærskifte 2 | Q4: Remme | R4: Stolpe | S4: Spætveksel | U4: Længdemål på grat | V4: Tæthed | W4: Sternflugt | X4: Tagflugt | Y4: Mål og højder | Z4: Højdemål på spærveksel
AB5: =SUM(C5:J5)+SUM(L5:S5)+SUM(U5:Z5) -> 0
A6: 1. | B6: Dennis Charming Bayer | AB6: =SUM(C6:J6)+SUM(L6:S6)+SUM(U6:Z6) -> 0
A7: 2. | B7: Peder Bolding | AB7: =SUM(C7:J7)+SUM(L7:S7)+SUM(U7:Z7) -> 0
A8: 3. | B8: Camilla Brinch Clasen | AB8: =SUM(C8:J8)+SUM(L8:S8)+SUM(U8:Z8) -> 0
A9: 4. | B9: Michael Eg Fredslund | AB9: =SUM(C9:J9)+SUM(L9:S9)+SUM(U9:Z9) -> 0
A10: 5. | B10: Niklas Vandborg Hansen | AB10: =SUM(C10:J10)+SUM(L10:S10)+SUM(U10:Z10) -> 0
A11: 6. | B11: Mathias Helth Hedegaard | AB11: =SUM(C11:J11)+SUM(L11:S11)+SUM(U11:Z11) -> 0
A12: 7. | B12: Thor Simmelgaard Berg Jensen | AB12: =SUM(C12:J12)+SUM(L12:S12)+SUM(U12:Z12) -> 0
A13: 8. | B13: Kasper Skovning | AB13: =SUM(C13:J13)+SUM(L13:S13)+SUM(U13:Z13) -> 0
A14: 9. | AB14: =SUM(C14:J14)+SUM(L14:S14)+SUM(U14:Z14) -> 0
A15: 10. | AB15: =SUM(C15:J15)+SUM(L15:S15)+SUM(U15:Z15) -> 0
A16: 11. | AB16: =SUM(C16:J16)+SUM(L16:S16)+SUM(U16:Z16) -> 0
A17: 12 | AB17: =SUM(C17:J17)+SUM(L17:S17)+SUM(U17:Z17) -> 0

Sheet Udskrift på A3
A1: Lokalmesterskab for Træfagenes Byggeuddannelse 2010
A3: Der gives point fra 1 til 5, hvor 5 er bedst 5 gives for den fremragende præstation 4 gives for den fortrinlige præstation 3 gives for den gode præstation 2 gives for den jævne præstation 1 gives for den tilstrækkelige præstation 0 gives for den utilstrækkelige præsentation | C3: Tilridsning af træ lagt i profil | L3: Tildannet træ lagt på profilplade | U3: Opgave på profilplade | AB3: Samlet point
C4: Grat 1 | D4: Grat 2 | E4: Grat 3 | F4: Spærskifte 1 | G4: Spærskifte 2 | H4: Remme | I4: Stolpe | J4: Spætveksel | L4: Grat 1 | M4: Grat 2 | N4: Grat 3 | O4: Spærskifte 1 | P4: Spærskifte 2 | Q4: Remme | R4: Stolpe | S4: Spætveksel | U4: Længdemål på grat | V4: Tæthed | W4: Sternflugt | X4: Tagflugt | Y4: Mål og højder | Z4: Højdemål på spærveksel
C5: ='Udskrift på A4'!C5 -> 0 | D5: ='Udskrift på A4'!D5 -> 0 | E5: ='Udskrift på A4'!E5 -> 0 | F5: ='Udskrift på A4'!F5 -> 0 | G5: ='Udskrift på A4'!G5 -> 0 | H5: ='Udskrift på A4'!H5 -> 0 | I5: ='Udskrift på A4'!I5 -> 0 | J5: ='Udskrift på A4'!J5 -> 0 | ... Z5: ='Udskrift på A4'!Z5 -> 0 | AB5: =SUM(C5:J5)+SUM(L5:S5)+SUM(U5:Z5) -> 0
A6: 1. | B6: Dennis Charming Bayer | C6: ='Udskrift på A4'!C6 -> 0 | D6: ='Udskrift på A4'!D6 -> 0 | E6: ='Udskrift på A4'!E6 -> 0 | F6: ='Udskrift på A4'!F6 -> 0 | G6: ='Udskrift på A4'!G6 -> 0 | H6: ='Udskrift på A4'!H6 -> 0 | I6: ='Udskrift på A4'!I6 -> 0 | J6: ='Udskrift på A4'!J6 -> 0 | ... Z6: ='Udskrift på A4'!Z6 -> 0 | AB6: =SUM(C6:J6)+SUM(L6:S6)+SUM(U6:Z6) -> 0
A7: 2. | B7: Peder Bolding | C7: ='Udskrift på A4'!C7 -> 0 | D7: ='Udskrift på A4'!D7 -> 0 | E7: ='Udskrift på A4'!E7 -> 0 | F7: ='Udskrift på A4'!F7 -> 0 | G7: ='Udskrift på A4'!G7 -> 0 | H7: ='Udskrift på A4'!H7 -> 0 | I7: ='Udskrift på A4'!I7 -> 0 | J7: ='Udskrift på A4'!J7 -> 0 | ... Z7: ='Udskrift på A4'!Z7 -> 0 | AB7: =SUM(C7:J7)+SUM(L7:S7)+SUM(U7:Z7) -> 0
A8: 3. | B8: Camilla Brinch Clasen | C8: ='Udskrift på A4'!C8 -> 0 | D8: ='Udskrift på A4'!D8 -> 0 | E8: ='Udskrift på A4'!E8 -> 0 | F8: ='Udskrift på A4'!F8 -> 0 | G8: ='Udskrift på A4'!G8 -> 0 | H8: ='Udskrift på A4'!H8 -> 0 | I8: ='Udskrift på A4'!I8 -> 0 | J8: ='Udskrift på A4'!J8 -> 0 | ... Z8: ='Udskrift på A4'!Z8 -> 0 | AB8: =SUM(C8:J8)+SUM(L8:S8)+SUM(U8:Z8) -> 0
A9: 4. | B9: Michael Eg Fredslund | C9: ='Udskrift på A4'!C9 -> 0 | D9: ='Udskrift på A4'!D9 -> 0 | E9: ='Udskrift på A4'!E9 -> 0 | F9: ='Udskrift på A4'!F9 -> 0 | G9: ='Udskrift på A4'!G9 -> 0 | H9: ='Udskrift på A4'!H9 -> 0 | I9: ='Udskrift på A4'!I9 -> 0 | J9: ='Udskrift på A4'!J9 -> 0 | ... Z9: ='Udskrift på A4'!Z9 -> 0 | AB9: =SUM(C9:J9)+SUM(L9:S9)+SUM(U9:Z9) -> 0
A10: 5. | B10: Niklas Vandborg Hansen | C10: ='Udskrift på A4'!C10 -> 0 | D10: ='Udskrift på A4'!D10 -> 0 | E10: ='Udskrift på A4'!E10 -> 0 | F10: ='Udskrift på A4'!F10 -> 0 | G10: ='Udskrift på A4'!G10 -> 0 | H10: ='Udskrift på A4'!H10 -> 0 | I10: ='Udskrift på A4'!I10 -> 0 | J10: ='Udskrift på A4'!J10 -> 0 | ... Z10: ='Udskrift på A4'!Z10 -> 0 | AB10: =SUM(C10:J10)+SUM(L10:S10)+SUM(U10:Z10) -> 0
A11: 6. | B11: Mathias Helth Hedegaard | C11: ='Udskrift på A4'!C11 -> 0 | D11: ='Udskrift på A4'!D11 -> 0 | E11: ='Udskrift på A4'!E11 -> 0 | F11: ='Udskrift på A4'!F11 -> 0 | G11: ='Udskrift på A4'!G11 -> 0 | H11: ='Udskrift på A4'!H11 -> 0 | I11: ='Udskrift på A4'!I11 -> 0 | J11: ='Udskrift på A4'!J11 -> 0 | ... Z11: ='Udskrift på A4'!Z11 -> 0 | AB11: =SUM(C11:J11)+SUM(L11:S11)+SUM(U11:Z11) -> 0
A12: 7. | B12: Thor Simmelgaard Berg Jensen | C12: ='Udskrift på A4'!C12 -> 0 | D12: ='Udskrift på A4'!D12 -> 0 | E12: ='Udskrift på A4'!E12 -> 0 | F12: ='Udskrift på A4'!F12 -> 0 | G12: ='Udskrift på A4'!G12 -> 0 | H12: ='Udskrift på A4'!H12 -> 0 | I12: ='Udskrift på A4'!I12 -> 0 | J12: ='Udskrift på A4'!J12 -> 0 | ... Z12: ='Udskrift på A4'!Z12 -> 0 | AB12: =SUM(C12:J12)+SUM(L12:S12)+SUM(U12:Z12) -> 0
A13: 8. | B13: Kasper Skovning | C13: ='Udskrift på A4'!C13 -> 0 | D13: ='Udskrift på A4'!D13 -> 0 | E13: ='Udskrift på A4'!E13 -> 0 | F13: ='Udskrift på A4'!F13 -> 0 | G13: ='Udskrift på A4'!G13 -> 0 | H13: ='Udskrift på A4'!H13 -> 0 | I13: ='Udskrift på A4'!I13 -> 0 | J13: ='Udskrift på A4'!J13 -> 0 | ... Z13: ='Udskrift på A4'!Z13 -> 0 | AB13: =SUM(C13:J13)+SUM(L13:S13)+SUM(U13:Z13) -> 0
A14: 9. | C14: ='Udskrift på A4'!C14 -> 0 | D14: ='Udskrift på A4'!D14 -> 0 | E14: ='Udskrift på A4'!E14 -> 0 | F14: ='Udskrift på A4'!F14 -> 0 | G14: ='Udskrift på A4'!G14 -> 0 | H14: ='Udskrift på A4'!H14 -> 0 | I14: ='Udskrift på A4'!I14 -> 0 | J14: ='Udskrift på A4'!J14 -> 0 | ... Z14: ='Udskrift på A4'!Z14 -> 0 | AB14: =SUM(C14:J14)+SUM(L14:S14)+SUM(U14:Z14) -> 0
A15: 10. | C15: ='Udskrift på A4'!C15 -> 0 | D15: ='Udskrift på A4'!D15 -> 0 | E15: ='Udskrift på A4'!E15 -> 0 | F15: ='Udskrift på A4'!F15 -> 0 | G15: ='Udskrift på A4'!G15 -> 0 | H15: ='Udskrift på A4'!H15 -> 0 | I15: ='Udskrift på A4'!I15 -> 0 | J15: ='Udskrift på A4'!J15 -> 0 | ... Z15: ='Udskrift på A4'!Z15 -> 0 | AB15: =SUM(C15:J15)+SUM(L15:S15)+SUM(U15:Z15) -> 0
A16: 11. | C16: ='Udskrift på A4'!C16 -> 0 | D16: ='Udskrift på A4'!D16 -> 0 | E16: ='Udskrift på A4'!E16 -> 0 | F16: ='Udskrift på A4'!F16 -> 0 | G16: ='Udskrift på A4'!G16 -> 0 | H16: ='Udskrift på A4'!H16 -> 0 | I16: ='Udskrift på A4'!I16 -> 0 | J16: ='Udskrift på A4'!J16 -> 0 | ... Z16: ='Udskrift på A4'!Z16 -> 0 | AB16: =SUM(C16:J16)+SUM(L16:S16)+SUM(U16:Z16) -> 0
A17: 12 | C17: ='Udskrift på A4'!C17 -> 0 | D17: ='Udskrift på A4'!D17 -> 0 | E17: ='Udskrift på A4'!E17 -> 0 | F17: ='Udskrift på A4'!F17 -> 0 | G17: ='Udskrift på A4'!G17 -> 0 | H17: ='Udskrift på A4'!H17 -> 0 | I17: ='Udskrift på A4'!I17 -> 0 | J17: ='Udskrift på A4'!J17 -> 0 | ... Z17: ='Udskrift på A4'!Z17 -> 0 | AB17: =SUM(C17:J17)+SUM(L17:S17)+SUM(U17:Z17) -> 0

Sheet Ark2

Sheet Ark3
